BEGIN:VCALENDAR
VERSION:2.0
PRODID:-//KiMaPa - ECPv6.15.16//NONSGML v1.0//EN
CALSCALE:GREGORIAN
METHOD:PUBLISH
X-WR-CALNAME:KiMaPa
X-ORIGINAL-URL:https://www.kimapa.de
X-WR-CALDESC:Veranstaltungen für KiMaPa
REFRESH-INTERVAL;VALUE=DURATION:PT1H
X-Robots-Tag:noindex
X-PUBLISHED-TTL:PT1H
BEGIN:VTIMEZONE
TZID:Europe/Berlin
BEGIN:DAYLIGHT
TZOFFSETFROM:+0100
TZOFFSETTO:+0200
TZNAME:CEST
DTSTART:20250330T010000
END:DAYLIGHT
BEGIN:STANDARD
TZOFFSETFROM:+0200
TZOFFSETTO:+0100
TZNAME:CET
DTSTART:20251026T010000
END:STANDARD
BEGIN:DAYLIGHT
TZOFFSETFROM:+0100
TZOFFSETTO:+0200
TZNAME:CEST
DTSTART:20260329T010000
END:DAYLIGHT
BEGIN:STANDARD
TZOFFSETFROM:+0200
TZOFFSETTO:+0100
TZNAME:CET
DTSTART:20261025T010000
END:STANDARD
BEGIN:DAYLIGHT
TZOFFSETFROM:+0100
TZOFFSETTO:+0200
TZNAME:CEST
DTSTART:20270328T010000
END:DAYLIGHT
BEGIN:STANDARD
TZOFFSETFROM:+0200
TZOFFSETTO:+0100
TZNAME:CET
DTSTART:20271031T010000
END:STANDARD
END:VTIMEZONE
BEGIN:VEVENT
DTSTART;TZID=Europe/Berlin:20260524T100000
DTEND;TZID=Europe/Berlin:20260524T170000
DTSTAMP:20260426T055406
CREATED:20260303T100219Z
LAST-MODIFIED:20260303T100219Z
UID:10026661-1779616800-1779642000@www.kimapa.de
SUMMARY:Pfingsten @ Markus Wasmeier Freilichtmuseum
DESCRIPTION:Pfingsten im Museumsdorf 🌿\nPfingstsonntag\, 24. Mai & Pfingstmontag\, 25. Mai 2026 | 10:00–17:00 Uhr\nÜber die Pfingstfeiertage lädt das altbayerische Museumsdorf zu einem entspannten Familienausflug ein. Im Wirtshaus warten regionale Schmankerl und bayerische Gastlichkeit. \n🎭 Für Kinder (und alle Junggebliebenen) spielt „Kasperls Spuikastl“ an beiden Tagen.
URL:https://www.kimapa.de/veranstaltungen/pfingsten-markus-wasmeier-freilichtmuseum/2026-05-24/
LOCATION:Markus Wasmeier Freilichtmuseum\, Brunbichl 5\, Schliersee\, 83727 \, Deutschland
CATEGORIES:Ferienprogramm,Natur & Tiere,Pfingsten,Tipp der Redaktion,Top Event
ATTACH;FMTTYPE=image/jpeg:https://www.kimapa.de/wp-content/uploads/2016/10/markus-wasmeier-events.jpg
GEO:47.7058324;11.8775497
X-APPLE-STRUCTURED-LOCATION;VALUE=URI;X-ADDRESS=Markus Wasmeier Freilichtmuseum Brunbichl 5 Schliersee 83727  Deutschland;X-APPLE-RADIUS=500;X-TITLE=Brunbichl 5:geo:11.8775497,47.7058324
END:VEVENT
BEGIN:VEVENT
DTSTART;TZID=Europe/Berlin:20260525T100000
DTEND;TZID=Europe/Berlin:20260525T170000
DTSTAMP:20260426T055406
CREATED:20260303T100219Z
LAST-MODIFIED:20260303T100219Z
UID:10026662-1779703200-1779728400@www.kimapa.de
SUMMARY:Pfingsten @ Markus Wasmeier Freilichtmuseum
DESCRIPTION:Pfingsten im Museumsdorf 🌿\nPfingstsonntag\, 24. Mai & Pfingstmontag\, 25. Mai 2026 | 10:00–17:00 Uhr\nÜber die Pfingstfeiertage lädt das altbayerische Museumsdorf zu einem entspannten Familienausflug ein. Im Wirtshaus warten regionale Schmankerl und bayerische Gastlichkeit. \n🎭 Für Kinder (und alle Junggebliebenen) spielt „Kasperls Spuikastl“ an beiden Tagen.
URL:https://www.kimapa.de/veranstaltungen/pfingsten-markus-wasmeier-freilichtmuseum/2026-05-25/
LOCATION:Markus Wasmeier Freilichtmuseum\, Brunbichl 5\, Schliersee\, 83727 \, Deutschland
CATEGORIES:Ferienprogramm,Natur & Tiere,Pfingsten,Tipp der Redaktion,Top Event
ATTACH;FMTTYPE=image/jpeg:https://www.kimapa.de/wp-content/uploads/2016/10/markus-wasmeier-events.jpg
GEO:47.7058324;11.8775497
X-APPLE-STRUCTURED-LOCATION;VALUE=URI;X-ADDRESS=Markus Wasmeier Freilichtmuseum Brunbichl 5 Schliersee 83727  Deutschland;X-APPLE-RADIUS=500;X-TITLE=Brunbichl 5:geo:11.8775497,47.7058324
END:VEVENT
END:VCALENDAR