BEGIN:VCALENDAR
VERSION:2.0
PRODID:-//KiMaPa - ECPv6.15.16//NONSGML v1.0//EN
CALSCALE:GREGORIAN
METHOD:PUBLISH
X-WR-CALNAME:KiMaPa
X-ORIGINAL-URL:https://www.kimapa.de
X-WR-CALDESC:Veranstaltungen für KiMaPa
REFRESH-INTERVAL;VALUE=DURATION:PT1H
X-Robots-Tag:noindex
X-PUBLISHED-TTL:PT1H
BEGIN:VTIMEZONE
TZID:Europe/Berlin
BEGIN:DAYLIGHT
TZOFFSETFROM:+0100
TZOFFSETTO:+0200
TZNAME:CEST
DTSTART:20250330T010000
END:DAYLIGHT
BEGIN:STANDARD
TZOFFSETFROM:+0200
TZOFFSETTO:+0100
TZNAME:CET
DTSTART:20251026T010000
END:STANDARD
BEGIN:DAYLIGHT
TZOFFSETFROM:+0100
TZOFFSETTO:+0200
TZNAME:CEST
DTSTART:20260329T010000
END:DAYLIGHT
BEGIN:STANDARD
TZOFFSETFROM:+0200
TZOFFSETTO:+0100
TZNAME:CET
DTSTART:20261025T010000
END:STANDARD
BEGIN:DAYLIGHT
TZOFFSETFROM:+0100
TZOFFSETTO:+0200
TZNAME:CEST
DTSTART:20270328T010000
END:DAYLIGHT
BEGIN:STANDARD
TZOFFSETFROM:+0200
TZOFFSETTO:+0100
TZNAME:CET
DTSTART:20271031T010000
END:STANDARD
END:VTIMEZONE
BEGIN:VEVENT
DTSTART;TZID=Europe/Berlin:20260525T100000
DTEND;TZID=Europe/Berlin:20260525T170000
DTSTAMP:20260425T131700
CREATED:20260423T151246Z
LAST-MODIFIED:20260423T151246Z
UID:10028578-1779703200-1779728400@www.kimapa.de
SUMMARY:Ferienprogramm: Wald-Familien-Spaß @ Waldwelt Skywalk Allgäu
DESCRIPTION:🌲 Ferienprogramm: Wald-Familien-Spaß\nIn den Pfingstferien erwartet euch ein abwechslungsreiches\, kostenfreies Extraprogramm für die ganze Familie – mit spannenden Aktionen rund um Wald\, Natur und Bewegung. Neben Bastelaktionen gibt es in diesem Jahr noch mehr zu erleben: \n✨ Magische Seifenblasen-Show\n📅 Montag\, 25. Mai (Pfingstmontag)\n🕐 13:00–13:40 Uhr & 14:30–15:10 Uhr \n🤹 Jongleur-Workshop mit dem Jonglierwerk\n📅 Samstag\, 30. Mai\, 12:00–16:00 Uhr\n📅 Donnerstag\, 04. Juni (Fronleichnam)\, 12:00–16:00 Uhr \n💧 Aktionstag „Wasser“ mit Allgäuer Alpenwasser\n📅 Freitag\, 05. Juni\, 11:00–14:00 Uhr \n📚 Lesung mit Grundschulpädagoge Roland Bock\n📅 Samstag\, 06. Juni\, 12:30–14:00 Uhr & 14:30–16:00 Uhr\n📅 Sonntag\, 07. Juni\, 12:30–14:00 Uhr & 14:30–16:00 Uhr
URL:https://www.kimapa.de/veranstaltungen/ferienprogramm-wald-familien-spass-waldwelt-skywalk-allgaeu/2026-05-25/
CATEGORIES:Ferienprogramm,Pfingsten
ATTACH;FMTTYPE=image/jpeg:https://www.kimapa.de/wp-content/uploads/2026/04/Wald-Abenteuerwelt-skywalk-Allgaeu_familienausflug-event.jpg
END:VEVENT
BEGIN:VEVENT
DTSTART;TZID=Europe/Berlin:20260530T100000
DTEND;TZID=Europe/Berlin:20260530T170000
DTSTAMP:20260425T131700
CREATED:20260423T151246Z
LAST-MODIFIED:20260423T151246Z
UID:10028579-1780135200-1780160400@www.kimapa.de
SUMMARY:Ferienprogramm: Wald-Familien-Spaß @ Waldwelt Skywalk Allgäu
DESCRIPTION:🌲 Ferienprogramm: Wald-Familien-Spaß\nIn den Pfingstferien erwartet euch ein abwechslungsreiches\, kostenfreies Extraprogramm für die ganze Familie – mit spannenden Aktionen rund um Wald\, Natur und Bewegung. Neben Bastelaktionen gibt es in diesem Jahr noch mehr zu erleben: \n✨ Magische Seifenblasen-Show\n📅 Montag\, 25. Mai (Pfingstmontag)\n🕐 13:00–13:40 Uhr & 14:30–15:10 Uhr \n🤹 Jongleur-Workshop mit dem Jonglierwerk\n📅 Samstag\, 30. Mai\, 12:00–16:00 Uhr\n📅 Donnerstag\, 04. Juni (Fronleichnam)\, 12:00–16:00 Uhr \n💧 Aktionstag „Wasser“ mit Allgäuer Alpenwasser\n📅 Freitag\, 05. Juni\, 11:00–14:00 Uhr \n📚 Lesung mit Grundschulpädagoge Roland Bock\n📅 Samstag\, 06. Juni\, 12:30–14:00 Uhr & 14:30–16:00 Uhr\n📅 Sonntag\, 07. Juni\, 12:30–14:00 Uhr & 14:30–16:00 Uhr
URL:https://www.kimapa.de/veranstaltungen/ferienprogramm-wald-familien-spass-waldwelt-skywalk-allgaeu/2026-05-30/
CATEGORIES:Ferienprogramm,Pfingsten
ATTACH;FMTTYPE=image/jpeg:https://www.kimapa.de/wp-content/uploads/2026/04/Wald-Abenteuerwelt-skywalk-Allgaeu_familienausflug-event.jpg
END:VEVENT
BEGIN:VEVENT
DTSTART;TZID=Europe/Berlin:20260605T100000
DTEND;TZID=Europe/Berlin:20260605T170000
DTSTAMP:20260425T131700
CREATED:20260423T151246Z
LAST-MODIFIED:20260423T151246Z
UID:10028580-1780653600-1780678800@www.kimapa.de
SUMMARY:Ferienprogramm: Wald-Familien-Spaß @ Waldwelt Skywalk Allgäu
DESCRIPTION:🌲 Ferienprogramm: Wald-Familien-Spaß\nIn den Pfingstferien erwartet euch ein abwechslungsreiches\, kostenfreies Extraprogramm für die ganze Familie – mit spannenden Aktionen rund um Wald\, Natur und Bewegung. Neben Bastelaktionen gibt es in diesem Jahr noch mehr zu erleben: \n✨ Magische Seifenblasen-Show\n📅 Montag\, 25. Mai (Pfingstmontag)\n🕐 13:00–13:40 Uhr & 14:30–15:10 Uhr \n🤹 Jongleur-Workshop mit dem Jonglierwerk\n📅 Samstag\, 30. Mai\, 12:00–16:00 Uhr\n📅 Donnerstag\, 04. Juni (Fronleichnam)\, 12:00–16:00 Uhr \n💧 Aktionstag „Wasser“ mit Allgäuer Alpenwasser\n📅 Freitag\, 05. Juni\, 11:00–14:00 Uhr \n📚 Lesung mit Grundschulpädagoge Roland Bock\n📅 Samstag\, 06. Juni\, 12:30–14:00 Uhr & 14:30–16:00 Uhr\n📅 Sonntag\, 07. Juni\, 12:30–14:00 Uhr & 14:30–16:00 Uhr
URL:https://www.kimapa.de/veranstaltungen/ferienprogramm-wald-familien-spass-waldwelt-skywalk-allgaeu/2026-06-05/
CATEGORIES:Ferienprogramm,Pfingsten
ATTACH;FMTTYPE=image/jpeg:https://www.kimapa.de/wp-content/uploads/2026/04/Wald-Abenteuerwelt-skywalk-Allgaeu_familienausflug-event.jpg
END:VEVENT
BEGIN:VEVENT
DTSTART;TZID=Europe/Berlin:20260606T100000
DTEND;TZID=Europe/Berlin:20260606T170000
DTSTAMP:20260425T131700
CREATED:20260423T151246Z
LAST-MODIFIED:20260423T151246Z
UID:10028581-1780740000-1780765200@www.kimapa.de
SUMMARY:Ferienprogramm: Wald-Familien-Spaß @ Waldwelt Skywalk Allgäu
DESCRIPTION:🌲 Ferienprogramm: Wald-Familien-Spaß\nIn den Pfingstferien erwartet euch ein abwechslungsreiches\, kostenfreies Extraprogramm für die ganze Familie – mit spannenden Aktionen rund um Wald\, Natur und Bewegung. Neben Bastelaktionen gibt es in diesem Jahr noch mehr zu erleben: \n✨ Magische Seifenblasen-Show\n📅 Montag\, 25. Mai (Pfingstmontag)\n🕐 13:00–13:40 Uhr & 14:30–15:10 Uhr \n🤹 Jongleur-Workshop mit dem Jonglierwerk\n📅 Samstag\, 30. Mai\, 12:00–16:00 Uhr\n📅 Donnerstag\, 04. Juni (Fronleichnam)\, 12:00–16:00 Uhr \n💧 Aktionstag „Wasser“ mit Allgäuer Alpenwasser\n📅 Freitag\, 05. Juni\, 11:00–14:00 Uhr \n📚 Lesung mit Grundschulpädagoge Roland Bock\n📅 Samstag\, 06. Juni\, 12:30–14:00 Uhr & 14:30–16:00 Uhr\n📅 Sonntag\, 07. Juni\, 12:30–14:00 Uhr & 14:30–16:00 Uhr
URL:https://www.kimapa.de/veranstaltungen/ferienprogramm-wald-familien-spass-waldwelt-skywalk-allgaeu/2026-06-06/
CATEGORIES:Ferienprogramm,Pfingsten
ATTACH;FMTTYPE=image/jpeg:https://www.kimapa.de/wp-content/uploads/2026/04/Wald-Abenteuerwelt-skywalk-Allgaeu_familienausflug-event.jpg
END:VEVENT
BEGIN:VEVENT
DTSTART;TZID=Europe/Berlin:20260607T100000
DTEND;TZID=Europe/Berlin:20260607T170000
DTSTAMP:20260425T131700
CREATED:20260423T151246Z
LAST-MODIFIED:20260423T151246Z
UID:10028582-1780826400-1780851600@www.kimapa.de
SUMMARY:Ferienprogramm: Wald-Familien-Spaß @ Waldwelt Skywalk Allgäu
DESCRIPTION:🌲 Ferienprogramm: Wald-Familien-Spaß\nIn den Pfingstferien erwartet euch ein abwechslungsreiches\, kostenfreies Extraprogramm für die ganze Familie – mit spannenden Aktionen rund um Wald\, Natur und Bewegung. Neben Bastelaktionen gibt es in diesem Jahr noch mehr zu erleben: \n✨ Magische Seifenblasen-Show\n📅 Montag\, 25. Mai (Pfingstmontag)\n🕐 13:00–13:40 Uhr & 14:30–15:10 Uhr \n🤹 Jongleur-Workshop mit dem Jonglierwerk\n📅 Samstag\, 30. Mai\, 12:00–16:00 Uhr\n📅 Donnerstag\, 04. Juni (Fronleichnam)\, 12:00–16:00 Uhr \n💧 Aktionstag „Wasser“ mit Allgäuer Alpenwasser\n📅 Freitag\, 05. Juni\, 11:00–14:00 Uhr \n📚 Lesung mit Grundschulpädagoge Roland Bock\n📅 Samstag\, 06. Juni\, 12:30–14:00 Uhr & 14:30–16:00 Uhr\n📅 Sonntag\, 07. Juni\, 12:30–14:00 Uhr & 14:30–16:00 Uhr
URL:https://www.kimapa.de/veranstaltungen/ferienprogramm-wald-familien-spass-waldwelt-skywalk-allgaeu/2026-06-07/
CATEGORIES:Ferienprogramm,Pfingsten
ATTACH;FMTTYPE=image/jpeg:https://www.kimapa.de/wp-content/uploads/2026/04/Wald-Abenteuerwelt-skywalk-Allgaeu_familienausflug-event.jpg
END:VEVENT
END:VCALENDAR