BEGIN:VCALENDAR
VERSION:2.0
PRODID:-//KiMaPa - ECPv6.15.16//NONSGML v1.0//EN
CALSCALE:GREGORIAN
METHOD:PUBLISH
X-WR-CALNAME:KiMaPa
X-ORIGINAL-URL:https://www.kimapa.de
X-WR-CALDESC:Veranstaltungen für KiMaPa
REFRESH-INTERVAL;VALUE=DURATION:PT1H
X-Robots-Tag:noindex
X-PUBLISHED-TTL:PT1H
BEGIN:VTIMEZONE
TZID:Europe/Berlin
BEGIN:DAYLIGHT
TZOFFSETFROM:+0100
TZOFFSETTO:+0200
TZNAME:CEST
DTSTART:20250330T010000
END:DAYLIGHT
BEGIN:STANDARD
TZOFFSETFROM:+0200
TZOFFSETTO:+0100
TZNAME:CET
DTSTART:20251026T010000
END:STANDARD
BEGIN:DAYLIGHT
TZOFFSETFROM:+0100
TZOFFSETTO:+0200
TZNAME:CEST
DTSTART:20260329T010000
END:DAYLIGHT
BEGIN:STANDARD
TZOFFSETFROM:+0200
TZOFFSETTO:+0100
TZNAME:CET
DTSTART:20261025T010000
END:STANDARD
BEGIN:DAYLIGHT
TZOFFSETFROM:+0100
TZOFFSETTO:+0200
TZNAME:CEST
DTSTART:20270328T010000
END:DAYLIGHT
BEGIN:STANDARD
TZOFFSETFROM:+0200
TZOFFSETTO:+0100
TZNAME:CET
DTSTART:20271031T010000
END:STANDARD
END:VTIMEZONE
BEGIN:VEVENT
DTSTART;TZID=Europe/Berlin:20260420T100000
DTEND;TZID=Europe/Berlin:20260420T170000
DTSTAMP:20260422T121452
CREATED:20260302T073423Z
LAST-MODIFIED:20260407T145417Z
UID:10025787-1776679200-1776704400@www.kimapa.de
SUMMARY:RÖMER Ausstellung @ Lokschuppen Rosenheim
DESCRIPTION:RÖMER – Gesichter eines Weltreiches\n20. März 2026 – 1. August 2027\nWie lebte es sich im Römischen Reich? Die Ausstellung „RÖMER – Gesichter eines Weltreiches“ erzählt die Geschichte der Antike aus einer neuen Perspektive: im Mittelpunkt stehen nicht nur Kaiser und Feldzüge\, sondern die Menschen selbst – Händlerinnen\, Legionäre\, Handwerker\, Kinder\, Priesterinnen oder Gladiatoren. \nÜber 500 Originalobjekte aus allen Regionen des Imperiums – von Schatzfunden bis zu Alltagsgegenständen – geben spannende Einblicke in eine Welt zwischen Macht\, Mobilität und kultureller Vielfalt. Historisch fundierte Hörgeschichten und eindrucksvolle Porträts machen persönliche Lebenswege erlebbar und zeigen\, wie eng große Geschichte und individuelle Schicksale verbunden sind. \nDie Ausstellung ist als Mitmach-Erlebnis konzipiert:\n✔ auf Wachstäfelchen schreiben\n✔ ein Mosaik legen\n✔ ausgewählte Originale berühren\n✔ beim digitalen Wagenrennen mitfiebern\n✔ eine „römische“ Münze prägen\n✔ an der weltweit größten idealtypischen LEGO®-Römerstadt mitbauen (zzgl. 3 €) \nEin „Mosaik-Rätselheft“ führt Kinder spielerisch durch die Ausstellung. Führungen\, Workshops\, Kindergeburtstage und Schulprogramme ergänzen das Angebot. \nÖffnungszeiten: täglich 10–17 Uhr\n(24. & 31.12.2026 geschlossen) \nTickets: www.tickets.lokschuppen.de \nRegulär 19\,50 € | Ermäßigt 8\,00 € \nEin abwechslungsreiches Ausstellungserlebnis für Familien\, Schulklassen und alle\, die Geschichte lebendig entdecken möchten. \nMehr
URL:https://www.kimapa.de/veranstaltungen/roemer-ausstellung-lokschuppen-rosenheim/2026-04-20/
LOCATION:Lokschuppen Rosenheim\, Hammerweg\, Rosenheim\, 83022\, Deutschland
CATEGORIES:Ausstellung,Tipp der Redaktion,Top Event
ATTACH;FMTTYPE=image/jpeg:https://www.kimapa.de/wp-content/uploads/2026/03/PlakatRoemer_copyright_vkr.jpg
GEO:47.8516841;12.1274293
X-APPLE-STRUCTURED-LOCATION;VALUE=URI;X-ADDRESS=Lokschuppen Rosenheim Hammerweg Rosenheim 83022 Deutschland;X-APPLE-RADIUS=500;X-TITLE=Hammerweg:geo:12.1274293,47.8516841
END:VEVENT
BEGIN:VEVENT
DTSTART;TZID=Europe/Berlin:20260420T100000
DTEND;TZID=Europe/Berlin:20260420T180000
DTSTAMP:20260422T121452
CREATED:20251111T093457Z
LAST-MODIFIED:20260413T162742Z
UID:10025538-1776679200-1776708000@www.kimapa.de
SUMMARY:Ausstellung Kindheit am Nil @ Ägyptisches Museum
DESCRIPTION:🏺 Kindheit am Nil – Aufwachsen im Alten Ägypten\n📍 Staatliches Museum Ägyptischer Kunst\, München\n🗓 Bis 21. Juni 2026 \n🎟 Eintritt: Erwachsene 8 €\, Ermäßigt 6 €\, Kinder & Jugendliche unter 18 Jahre frei \nDie Sonderausstellung widmet sich einem bisher wenig beleuchteten Thema: Kindheit im Alten Ägypten. Welche Rechte und Pflichten hatten Kinder damals? Wie verbrachten sie ihren Alltag\, und wie unterscheidet sich ihr Aufwachsen von unserer heutigen Vorstellung von Kindheit? \nRund 180 Exponate\, darunter erstmals restaurierte Objekte aus der Sammlung des Museums\, zeigen das Leben am Nil – von Schule\, Spiel und Sport über die Rolle der Königskinder bis hin zu Religion\, Magie und Jenseitsvorstellungen. Kinder begegnen uns in Rollen\, die uns vertraut sind\, und in solchen\, die fremd und faszinierend wirken. \nDie Ausstellung ist familienfreundlich gestaltet: Ein Kinderpfad\, interaktive Stationen und ein umfangreiches Begleitprogramm laden zum Mitmachen\, Entdecken und Staunen ein. So werden Kinder nicht nur adressiert\, sondern stehen als Maßstab für die Vermittlung im Mittelpunkt. \n„Kindheit am Nil“ lädt ein zu einer Reise durch Hoffnungen\, Pflichten\, Spiele und Rituale der altägyptischen Kinder – und regt gleichzeitig zum Nachdenken über Kindheit heute\, Bildung\, Fürsorge und Gleichberechtigung an. \nMehr
URL:https://www.kimapa.de/veranstaltungen/ausstellung-kindheit-am-nil-aegyptisches-museum/2026-04-20/
LOCATION:Ägyptisches Museum\, Gabelsbergerstr. 35\, München\, 80333\, Deutschland
CATEGORIES:Ausstellungen & Kunst,Tipp der Redaktion
ATTACH;FMTTYPE=image/jpeg:https://www.kimapa.de/wp-content/uploads/2025/10/Aegyptisches-Museum-event.jpg
GEO:48.1472568;11.5685031
X-APPLE-STRUCTURED-LOCATION;VALUE=URI;X-ADDRESS=Ägyptisches Museum Gabelsbergerstr. 35 München 80333 Deutschland;X-APPLE-RADIUS=500;X-TITLE=Gabelsbergerstr. 35:geo:11.5685031,48.1472568
END:VEVENT
BEGIN:VEVENT
DTSTART;TZID=Europe/Berlin:20260420T110000
DTEND;TZID=Europe/Berlin:20260420T233000
DTSTAMP:20260422T121452
CREATED:20260330T182514Z
LAST-MODIFIED:20260413T162542Z
UID:10028337-1776682800-1776727800@www.kimapa.de
SUMMARY:Frühlingsfest München 2026
DESCRIPTION:🎡 Frühlingsfest München 2026 („Kleine Schwester der Wiesn“) \n📅 Datum: 17. April – 10. Mai 2026\n📍 Ort: Theresienwiese (nördlicher Teil\, Straßen 1 & 2 zwischen Wirtsbuden- und Schaustellerstraße) \n🕒 Öffnungszeiten (Bierzelte)\nMo–Fr: 11:00 – 23:00 Uhr\nSa\, So & 1. Mai: 10:00 – 23:00 Uhr\nLetzter Ausschank: 22:30 Uhr \n🎠 Highlights & Programm\n17. April (ab 15:00 Uhr): Eröffnungsumzug & Bieranstich\n18. April (ab 07:00 Uhr): Größter Flohmarkt Bayerns (BRK)\n26. April: Oldtimer-Treffen (Automobil-30Club München)\n3. Mai: Tag des Brauchtums \n🎆 Feuerwerke: Voraussichtlich an zwei Freitagabenden\n👨‍👩‍👧 Familiennachmittage: Jeden Dienstag\, 12:00–19:00 Uhr (ermäßigte Preise) \n🎢 Attraktionen\nÜber 100 Schausteller\nRund 30 Fahrgeschäfte\, darunter:\n🎡 Willenborg Riesenrad\n🚗 Autoscooter\n🎯 Schießbuden
URL:https://www.kimapa.de/veranstaltungen/fruehlingsfest-muenchen-2026/2026-04-20/
LOCATION:Theresienwiese\, Theresienwiese\, München\, 80336\, Deutschland
CATEGORIES:Feste & Märkte,Tipp der Redaktion,Top Event
ATTACH;FMTTYPE=image/jpeg:https://www.kimapa.de/wp-content/uploads/2018/07/Volksfest-karussell.jpg
GEO:48.1362478;11.5532875
X-APPLE-STRUCTURED-LOCATION;VALUE=URI;X-ADDRESS=Theresienwiese Theresienwiese München 80336 Deutschland;X-APPLE-RADIUS=500;X-TITLE=Theresienwiese:geo:11.5532875,48.1362478
END:VEVENT
BEGIN:VEVENT
DTSTART;TZID=Europe/Berlin:20260420T163000
DTEND;TZID=Europe/Berlin:20260420T173000
DTSTAMP:20260422T121452
CREATED:20260317T130034Z
LAST-MODIFIED:20260415T085436Z
UID:10028289-1776702600-1776706200@www.kimapa.de
SUMMARY:Kindertheater Rabe Socke@ Kultur & Mehr – Bürgersaal Fürstenried
DESCRIPTION:Rabe Socke – Alles wieder beste Freunde!\nTheater für Kinder ab 3 Jahren \n2026 feiert der kleine Rabe Socke seinen 30. Geburtstag – und bringt passend dazu eine neue Geschichte auf die Bühne! Die Kammerpuppenspiele präsentieren exklusiv die Uraufführung der liebevoll inszenierten Bühnenfassung. \nIn dem Stück sorgt ein großer Streit für ordentlich Chaos: Die Figuren geraten aneinander\, und plötzlich scheint niemand mehr miteinander auszukommen. Rabe Socke macht sich auf die Suche nach einer Lösung – damit am Ende Freundschaft\, Zusammenhalt und Verständnis wieder gewinnen. \nEin humorvolles und berührendes Puppentheaterstück für die ganze Familie – ideal für kleine Theaterfans und alle\, die Freude am Mitfühlen und Mitlachen haben. \nTermine:\n16.04.2026 – 16:30 Uhr\n17.04.2026 – 15:30 Uhr\n18.04.2026 – 11:00 & 14:00 Uhr\n19.04.2026 – 11:00 & 14:00 Uhr\n20.04.2026 – 16:30 Uhr\n21.04.2026 – 16:30 Uhr\n22.04.2026 – 16:30 Uhr \nTickets:\nErhältlich an allen bekannten Vorverkaufsstellen\, über die Bestell-Hotline (01806-570070) sowie online unter www.eventim.de \nVeranstaltungsort:\nKultur & Mehr – Bürgersaal Fürstenried\nZüricher Straße\n81476 München
URL:https://www.kimapa.de/veranstaltungen/kindertheater-rabe-socke-kultur-mehr-buergersaal-fuerstenried/2026-04-20/
LOCATION:kultur und Mehr\, Züricher Str. 35\, München\, 81476\, Deutschland
CATEGORIES:Theater & Zirkus,Tipp der Redaktion,Top Event
ATTACH;FMTTYPE=image/jpeg:https://www.kimapa.de/wp-content/uploads/2026/03/Rabe-socke-event-kammerpuppenspiele.jpg
END:VEVENT
END:VCALENDAR