BEGIN:VCALENDAR
VERSION:2.0
PRODID:-//KiMaPa - ECPv6.15.16//NONSGML v1.0//EN
CALSCALE:GREGORIAN
METHOD:PUBLISH
X-ORIGINAL-URL:https://www.kimapa.de
X-WR-CALDESC:Veranstaltungen für KiMaPa
REFRESH-INTERVAL;VALUE=DURATION:PT1H
X-Robots-Tag:noindex
X-PUBLISHED-TTL:PT1H
BEGIN:VTIMEZONE
TZID:Europe/Berlin
BEGIN:DAYLIGHT
TZOFFSETFROM:+0100
TZOFFSETTO:+0200
TZNAME:CEST
DTSTART:20240331T010000
END:DAYLIGHT
BEGIN:STANDARD
TZOFFSETFROM:+0200
TZOFFSETTO:+0100
TZNAME:CET
DTSTART:20241027T010000
END:STANDARD
BEGIN:DAYLIGHT
TZOFFSETFROM:+0100
TZOFFSETTO:+0200
TZNAME:CEST
DTSTART:20250330T010000
END:DAYLIGHT
BEGIN:STANDARD
TZOFFSETFROM:+0200
TZOFFSETTO:+0100
TZNAME:CET
DTSTART:20251026T010000
END:STANDARD
BEGIN:DAYLIGHT
TZOFFSETFROM:+0100
TZOFFSETTO:+0200
TZNAME:CEST
DTSTART:20260329T010000
END:DAYLIGHT
BEGIN:STANDARD
TZOFFSETFROM:+0200
TZOFFSETTO:+0100
TZNAME:CET
DTSTART:20261025T010000
END:STANDARD
END:VTIMEZONE
BEGIN:VEVENT
DTSTART;TZID=Europe/Berlin:20251221T150000
DTEND;TZID=Europe/Berlin:20251221T160000
DTSTAMP:20260420T152748
CREATED:20251215T161733Z
LAST-MODIFIED:20251215T161733Z
UID:10022971-1766329200-1766332800@www.kimapa.de
SUMMARY:Welche Krippe ist die schönste? – Familienprogramm im Bayerischen Nationalmuseum
DESCRIPTION:Welche Krippe ist die schönste?\nFamilienprogramm im Bayerischen Nationalmuseum\nWann: Sonntag\, 21. Dezember 2025\, 15:00 – 16:00 Uhr\nWo: Bayerisches Nationalmuseum\nFür Kinder: ab 6 Jahren \nBegleitet Maria und Josef\, die Hirten und die Heiligen Drei Könige auf ihrem Weg zur Krippe und entdeckt spannende Geschichten rund um die Geburt Jesu. Materialien zum Anfassen lassen die Weihnachtsgeschichte mit allen Sinnen erleben – ein festliches Erlebnis für die ganze Familie! \nLeitung: Katharina Küsel-Mailänder M.A. und Dr. Andrea Mayerhofer-Llanes\nKosten: Kinder 1\,00 € (mit Familienpass frei)\, Erwachsene regulärer Sonntagseintritt\nKooperation: Museumspädagogisches Zentrum
URL:https://www.kimapa.de/veranstaltungen/welche-krippe-ist-die-schoenste-familienprogramm-im-bayerischen-nationalmuseum/
LOCATION:Bayerisches Nationalmuseum\, Prinzregentenstraße 3\, München\, 80538\, Deutschland
CATEGORIES:Museum & Führungen,Tipp der Redaktion
ATTACH;FMTTYPE=image/jpeg:https://www.kimapa.de/wp-content/uploads/2016/04/Bayerisches-nationalmuseum-events-e1479218455837.jpg
GEO:48.14326;11.589
X-APPLE-STRUCTURED-LOCATION;VALUE=URI;X-ADDRESS=Bayerisches Nationalmuseum Prinzregentenstraße 3 München 80538 Deutschland;X-APPLE-RADIUS=500;X-TITLE=Prinzregentenstraße 3:geo:11.589,48.14326
END:VEVENT
BEGIN:VEVENT
DTSTART;TZID=Europe/Berlin:20250307T110000
DTEND;TZID=Europe/Berlin:20250307T140000
DTSTAMP:20260420T152748
CREATED:20250224T121619Z
LAST-MODIFIED:20250224T121619Z
UID:10017918-1741345200-1741356000@www.kimapa.de
SUMMARY:Ferien-Workshop @ Bayerisches Nationalmuseum
DESCRIPTION:Goldene Kunst: Barocke Rahmen selbst vergolden ✨🖼️\n📅 Datum: Freitag\, 07. März 2025\n⏰ Uhrzeit: 11:00 – 14:00 Uhr\n📍 Ort: Bayerisches Nationalmuseum \n🖌 Workshop für Kinder ab 9 Jahren \nHast du dich schon einmal gefragt\, warum Bilderrahmen vergoldet werden? Oder wie hauchdünnes Blattgold auf einen Rahmen kommt? In diesem Workshop bekommst du spannende Antworten auf diese Fragen und die Möglichkeit\, selbst einen kleinen Bilderrahmen zu vergolden. \n🎨 Leitung: Ulrike Bläser\, Vergolderin\n🥪 Bitte eine Brotzeit mitbringen! \n🎟 Kosten: 6 € (mit Ferienpass 5 €)\n📌 Anmeldung erforderlich: 089 21124-216 oder veranstaltungen@bayerisches-nationalmuseum.de \nMit freundlicher Unterstützung der Reuschel-Stiftung. \n  \nMehr
URL:https://www.kimapa.de/veranstaltungen/ferien-workshop-bayerisches-nationalmuseum-2/
LOCATION:Bayerisches Nationalmuseum\, Prinzregentenstraße 3\, München\, 80538\, Deutschland
CATEGORIES:Ferienprogramm,Museum & Führungen
ATTACH;FMTTYPE=image/jpeg:https://www.kimapa.de/wp-content/uploads/2016/04/Bayerisches-nationalmuseum-events-e1479218455837.jpg
GEO:48.14326;11.589
X-APPLE-STRUCTURED-LOCATION;VALUE=URI;X-ADDRESS=Bayerisches Nationalmuseum Prinzregentenstraße 3 München 80538 Deutschland;X-APPLE-RADIUS=500;X-TITLE=Prinzregentenstraße 3:geo:11.589,48.14326
END:VEVENT
BEGIN:VEVENT
DTSTART;TZID=Europe/Berlin:20250306T103000
DTEND;TZID=Europe/Berlin:20250306T130000
DTSTAMP:20260420T152748
CREATED:20250224T120918Z
LAST-MODIFIED:20250224T120918Z
UID:10017917-1741257000-1741266000@www.kimapa.de
SUMMARY:Ferien-Workshop @ Bayerisches Nationalmuseum
DESCRIPTION:Königliche Modewelt: Entdecken\, Anprobieren & Gestalten 👑✨\n📅 Datum: Donnerstag\, 06. März 2025\n⏰ Uhrzeit: 10:30 – 13:00 Uhr\n📍 Ort: Bayerisches Nationalmuseum \n👗 Workshop für Kinder ab 6 Jahren \nTauche ein in die prachtvolle Welt der höfischen Mode! Bestaune edle Seidengewänder und aufwendig verzierte Goldspitzen aus dem 16. und 18. Jahrhundert – und probiere sogar ihre detailgetreuen Nachbildungen an. Danach wirst du selbst zum Modedesigner: Mit Stoffen und Farben entwirfst du eigene Kreationen und gestaltest daraus eine kleine Modezeitschrift. \n🎨 Leitung: Dr. Andrea Mayerhofer-Llanes\n🥪 Bitte eine Brotzeit mitbringen! \n🎟 Kosten: 3 € (mit Ferienpass 2 €)\n📌 Anmeldung erforderlich: 089 21124-216 oder veranstaltungen@bayerisches-nationalmuseum.de \n  \nMehr
URL:https://www.kimapa.de/veranstaltungen/ferien-workshop-bayerisches-nationalmuseum/
LOCATION:Bayerisches Nationalmuseum\, Prinzregentenstraße 3\, München\, 80538\, Deutschland
CATEGORIES:Ferienprogramm,Museum & Führungen
ATTACH;FMTTYPE=image/jpeg:https://www.kimapa.de/wp-content/uploads/2016/04/Bayerisches-nationalmuseum-events-e1479218455837.jpg
GEO:48.14326;11.589
X-APPLE-STRUCTURED-LOCATION;VALUE=URI;X-ADDRESS=Bayerisches Nationalmuseum Prinzregentenstraße 3 München 80538 Deutschland;X-APPLE-RADIUS=500;X-TITLE=Prinzregentenstraße 3:geo:11.589,48.14326
END:VEVENT
BEGIN:VEVENT
DTSTART;TZID=Europe/Berlin:20250305T110000
DTEND;TZID=Europe/Berlin:20250305T140000
DTSTAMP:20260420T152748
CREATED:20250224T120402Z
LAST-MODIFIED:20250224T120402Z
UID:10017916-1741172400-1741183200@www.kimapa.de
SUMMARY:Workshop für Kinder @ Bayerisches Nationalmuseum
DESCRIPTION:Workshop: Mutige Helden & furchterregende Drachen 🐉⚔️\n📅 Datum: Mittwoch\, 05. März 2025⏰ Uhrzeit: 11:00 – 14:00 Uhr📍 Ort: Bayerisches Nationalmuseum \n🖋 Kreativer Workshop für Kinder ab 8 Jahren \nTauche ein in die faszinierende Welt der Drachen und Ritter! Erfahre\, wie mutige Knappen und heilige Kämpfer im Mittelalter gegen schreckliche Ungeheuer antraten. Danach wirst du selbst kreativ: In unserer Schreibwerkstatt gestaltest du ein kunstvolles Titelblatt mit einer Drachen-Initiale für deine eigene Geschichte. Dazu stellst du eigene Tusche her und probierst das Schreiben mit einer echten Gänsefeder. \n🎨 Leitung: Sophie Bauer M.A.\, KuKi – Kunst für Kinder e.V.🥪 Bitte eine Brotzeit mitbringen! \n🎟 Kosten: 5 € (mit Ferienpass 4 €)📌 Anmeldung erforderlich: 089 21124-216 oder veranstaltungen@bayerisches-nationalmuseum.de \nMehr
URL:https://www.kimapa.de/veranstaltungen/workshop-fuer-kinder-bayerisches-nationalmuseum/
LOCATION:Bayerisches Nationalmuseum\, Prinzregentenstraße 3\, München\, 80538\, Deutschland
CATEGORIES:Ferienprogramm,Museum & Führungen
ATTACH;FMTTYPE=image/jpeg:https://www.kimapa.de/wp-content/uploads/2016/04/Bayerisches-nationalmuseum-events-e1479218455837.jpg
GEO:48.14326;11.589
X-APPLE-STRUCTURED-LOCATION;VALUE=URI;X-ADDRESS=Bayerisches Nationalmuseum Prinzregentenstraße 3 München 80538 Deutschland;X-APPLE-RADIUS=500;X-TITLE=Prinzregentenstraße 3:geo:11.589,48.14326
END:VEVENT
BEGIN:VEVENT
DTSTART;TZID=Europe/Berlin:20250302T150000
DTEND;TZID=Europe/Berlin:20250302T160000
DTSTAMP:20260420T152748
CREATED:20250224T115909Z
LAST-MODIFIED:20250224T115909Z
UID:10017915-1740927600-1740931200@www.kimapa.de
SUMMARY:Musikalischer Faschingsspaß: Valentinade @ Bayerisches Nationalmuseum
DESCRIPTION:Musikalischer Faschingsspaß: Valentinade 🎭🎶 \n📅 Datum: Sonntag\, 02. März 2025⏰ Uhrzeit: 15:00 – 16:00 Uhr📍 Ort: Bayerisches Nationalmuseum \n🎷🥖 Ein Faschingskonzert für die ganze Familie 🎹🎭 \nZu Ehren des legendären Komikers und Musikliebhabers Karl Valentin laden wir zu einer fröhlichen Valentinade ein! Dabei erklingen außergewöhnliche Instrumente wie die Liebesoboe\, das Wurstfagott oder das mystische Tritonikon. Unser Musikexperte Dr. Gunther Joppig erzählt spannende Geschichten zu diesen kuriosen Klängen\, während Susanne Storek am Flügel begleitet. \n👨‍👩‍👧‍👦 Für Familien mit Kindern ab 6 Jahren🎟 Eintritt: Kinder kostenlos\, Erwachsene zahlen den regulären Sonntagseintritt ins Museum. \n📌 In Kooperation mit dem Museumspädagogischen Zentrum\, gefördert vom Club der Kunstfreunde – seit 2003. \n\nMehr
URL:https://www.kimapa.de/veranstaltungen/musikalischer-faschingsspass-valentinade-bayerisches-nationalmuseum/
LOCATION:Bayerisches Nationalmuseum\, Prinzregentenstraße 3\, München\, 80538\, Deutschland
CATEGORIES:Museum & Führungen,Tipp der Redaktion
ATTACH;FMTTYPE=image/jpeg:https://www.kimapa.de/wp-content/uploads/2016/04/Bayerisches-nationalmuseum-events-e1479218455837.jpg
GEO:48.14326;11.589
X-APPLE-STRUCTURED-LOCATION;VALUE=URI;X-ADDRESS=Bayerisches Nationalmuseum Prinzregentenstraße 3 München 80538 Deutschland;X-APPLE-RADIUS=500;X-TITLE=Prinzregentenstraße 3:geo:11.589,48.14326
END:VEVENT
END:VCALENDAR