BEGIN:VCALENDAR
VERSION:2.0
PRODID:-//KiMaPa - ECPv6.15.16//NONSGML v1.0//EN
CALSCALE:GREGORIAN
METHOD:PUBLISH
X-WR-CALNAME:KiMaPa
X-ORIGINAL-URL:https://www.kimapa.de
X-WR-CALDESC:Veranstaltungen für KiMaPa
REFRESH-INTERVAL;VALUE=DURATION:PT1H
X-Robots-Tag:noindex
X-PUBLISHED-TTL:PT1H
BEGIN:VTIMEZONE
TZID:Europe/Berlin
BEGIN:DAYLIGHT
TZOFFSETFROM:+0100
TZOFFSETTO:+0200
TZNAME:CEST
DTSTART:20240331T010000
END:DAYLIGHT
BEGIN:STANDARD
TZOFFSETFROM:+0200
TZOFFSETTO:+0100
TZNAME:CET
DTSTART:20241027T010000
END:STANDARD
BEGIN:DAYLIGHT
TZOFFSETFROM:+0100
TZOFFSETTO:+0200
TZNAME:CEST
DTSTART:20250330T010000
END:DAYLIGHT
BEGIN:STANDARD
TZOFFSETFROM:+0200
TZOFFSETTO:+0100
TZNAME:CET
DTSTART:20251026T010000
END:STANDARD
BEGIN:DAYLIGHT
TZOFFSETFROM:+0100
TZOFFSETTO:+0200
TZNAME:CEST
DTSTART:20260329T010000
END:DAYLIGHT
BEGIN:STANDARD
TZOFFSETFROM:+0200
TZOFFSETTO:+0100
TZNAME:CET
DTSTART:20261025T010000
END:STANDARD
END:VTIMEZONE
BEGIN:VEVENT
DTSTART;TZID=Europe/Berlin:20251012T110000
DTEND;TZID=Europe/Berlin:20251012T220000
DTSTAMP:20260421T102114
CREATED:20251006T074556Z
LAST-MODIFIED:20251006T074556Z
UID:10021497-1760266800-1760306400@www.kimapa.de
SUMMARY:Ayinger Bräu-Kirta – Tradition\, Musik & Gaudi in Aying
DESCRIPTION:Ayinger Bräu-Kirta – Tradition\, Musik & Gaudi in Aying\nAm 11. und 12. Oktober lädt die Ayinger Privatbrauerei zum beliebten Bräu-Kirta ein – ein Wochenende voller bayerischer Lebensfreude\, Musik und Handwerkskunst. \nSamstag\, 11. Oktober:\nAb 9 Uhr startet der Tag mit dem Trachtenflohmarkt auf dem Freigelände. Zeitgleich findet von 10 bis 13 Uhr das Kinderpreisplattln der Gaugruppe Holzkirchen statt\, begleitet von einem bunten Kinderprogramm bis 15 Uhr.\nEin Highlight ist das Große Ochsenrennen ab 13 Uhr auf der Brauereiwiese\, gefolgt von der Siegerehrung. Im Festzelt sorgen die Farnbach Musikanten (ab 13 Uhr) und ab 19 Uhr Mathias Achatz & Band\, die Oktoberfestkapelle aus der Ochsenbraterei\, mit aktuellen Wiesn-Hits für beste Stimmung – Eintritt frei! \nSonntag\, 12. Oktober:\nVon 11 bis 17 Uhr feiert Aying den Traditionellen Bräu-Kirta mit großem Kunsthandwerker- und Bauernmarkt\, regionalen Kirta-Schmankerln und einem Tag der offenen Tür in der Brauerei. Für die musikalische Begleitung sorgt die Helfendorfer Blasmusik. \n  \nMehr
URL:https://www.kimapa.de/veranstaltungen/ayinger-braeu-kirta-tradition-musik-gaudi-in-aying/2025-10-12/
LOCATION:Brauerei Aying\, Münchener Str. 21\, Aying\, 85653\, Deutschland
CATEGORIES:Familienaktion,Feste & Märkte
ATTACH;FMTTYPE=image/jpeg:https://www.kimapa.de/wp-content/uploads/2017/09/Tracht-breze-kind.jpg
GEO:47.972169;11.773846
X-APPLE-STRUCTURED-LOCATION;VALUE=URI;X-ADDRESS=Brauerei Aying Münchener Str. 21 Aying 85653 Deutschland;X-APPLE-RADIUS=500;X-TITLE=Münchener Str. 21:geo:11.773846,47.972169
END:VEVENT
BEGIN:VEVENT
DTSTART;TZID=Europe/Berlin:20251011T100000
DTEND;TZID=Europe/Berlin:20251011T220000
DTSTAMP:20260421T102114
CREATED:20251006T074556Z
LAST-MODIFIED:20251006T074556Z
UID:10021496-1760176800-1760220000@www.kimapa.de
SUMMARY:Ayinger Bräu-Kirta – Tradition\, Musik & Gaudi in Aying
DESCRIPTION:Ayinger Bräu-Kirta – Tradition\, Musik & Gaudi in Aying\nAm 11. und 12. Oktober lädt die Ayinger Privatbrauerei zum beliebten Bräu-Kirta ein – ein Wochenende voller bayerischer Lebensfreude\, Musik und Handwerkskunst. \nSamstag\, 11. Oktober:\nAb 9 Uhr startet der Tag mit dem Trachtenflohmarkt auf dem Freigelände. Zeitgleich findet von 10 bis 13 Uhr das Kinderpreisplattln der Gaugruppe Holzkirchen statt\, begleitet von einem bunten Kinderprogramm bis 15 Uhr.\nEin Highlight ist das Große Ochsenrennen ab 13 Uhr auf der Brauereiwiese\, gefolgt von der Siegerehrung. Im Festzelt sorgen die Farnbach Musikanten (ab 13 Uhr) und ab 19 Uhr Mathias Achatz & Band\, die Oktoberfestkapelle aus der Ochsenbraterei\, mit aktuellen Wiesn-Hits für beste Stimmung – Eintritt frei! \nSonntag\, 12. Oktober:\nVon 11 bis 17 Uhr feiert Aying den Traditionellen Bräu-Kirta mit großem Kunsthandwerker- und Bauernmarkt\, regionalen Kirta-Schmankerln und einem Tag der offenen Tür in der Brauerei. Für die musikalische Begleitung sorgt die Helfendorfer Blasmusik. \n  \nMehr
URL:https://www.kimapa.de/veranstaltungen/ayinger-braeu-kirta-tradition-musik-gaudi-in-aying/2025-10-11/
LOCATION:Brauerei Aying\, Münchener Str. 21\, Aying\, 85653\, Deutschland
CATEGORIES:Familienaktion,Feste & Märkte
ATTACH;FMTTYPE=image/jpeg:https://www.kimapa.de/wp-content/uploads/2017/09/Tracht-breze-kind.jpg
GEO:47.972169;11.773846
X-APPLE-STRUCTURED-LOCATION;VALUE=URI;X-ADDRESS=Brauerei Aying Münchener Str. 21 Aying 85653 Deutschland;X-APPLE-RADIUS=500;X-TITLE=Münchener Str. 21:geo:11.773846,47.972169
END:VEVENT
END:VCALENDAR