BEGIN:VCALENDAR
VERSION:2.0
PRODID:-//KiMaPa - ECPv6.15.16//NONSGML v1.0//EN
CALSCALE:GREGORIAN
METHOD:PUBLISH
X-WR-CALNAME:KiMaPa
X-ORIGINAL-URL:https://www.kimapa.de
X-WR-CALDESC:Veranstaltungen für KiMaPa
REFRESH-INTERVAL;VALUE=DURATION:PT1H
X-Robots-Tag:noindex
X-PUBLISHED-TTL:PT1H
BEGIN:VTIMEZONE
TZID:Europe/Berlin
BEGIN:DAYLIGHT
TZOFFSETFROM:+0100
TZOFFSETTO:+0200
TZNAME:CEST
DTSTART:20240331T010000
END:DAYLIGHT
BEGIN:STANDARD
TZOFFSETFROM:+0200
TZOFFSETTO:+0100
TZNAME:CET
DTSTART:20241027T010000
END:STANDARD
BEGIN:DAYLIGHT
TZOFFSETFROM:+0100
TZOFFSETTO:+0200
TZNAME:CEST
DTSTART:20250330T010000
END:DAYLIGHT
BEGIN:STANDARD
TZOFFSETFROM:+0200
TZOFFSETTO:+0100
TZNAME:CET
DTSTART:20251026T010000
END:STANDARD
BEGIN:DAYLIGHT
TZOFFSETFROM:+0100
TZOFFSETTO:+0200
TZNAME:CEST
DTSTART:20260329T010000
END:DAYLIGHT
BEGIN:STANDARD
TZOFFSETFROM:+0200
TZOFFSETTO:+0100
TZNAME:CET
DTSTART:20261025T010000
END:STANDARD
END:VTIMEZONE
BEGIN:VEVENT
DTSTART;TZID=Europe/Berlin:20250706T120000
DTEND;TZID=Europe/Berlin:20250706T190000
DTSTAMP:20260421T102037
CREATED:20250630T073623Z
LAST-MODIFIED:20250630T074146Z
UID:10020394-1751803200-1751828400@www.kimapa.de
SUMMARY:Künstlermeile @ Haar b. München
DESCRIPTION:🎨 SOMMA in der Stadt: Künstlermeile\n🗓️ Samstag\, 5. Juli 2025\,  14:00 – 22:30 Uhr\n& Sonntag\, 6. Juli\, 12 bis 19 Uhr\n📍 Ortsmitte \nDie beliebte Künstlermeile verwandelt die Ortsmitte wieder in ein buntes Straßenfest – und das dieses Jahr sogar an zwei Tagen! \nAm Samstag von 14:00 bis 22:30 Uhr laden zahlreiche Stände zum Flanieren\, Stöbern und Genießen ein. Auf zwei Bühnen gibt es ein abwechslungsreiches Programm mit Livemusik\, Tanz und Showeinlagen. \n🎭 Straßenkünstler\, Stelzenläufer\, eine Kameldame\, ein Glaskugel-Jongleur und viele weitere Highlights sorgen den ganzen Tag über für Staunen und Unterhaltung. \n🎶 Bühnenprogramm am Samstag: \nBühne am Kirchenplatz: \n14:00 Uhr: Evil May Car \n15:30 Uhr: Bajuvarix \n18:00 Uhr: The Ukelites \n19:30 Uhr: TroubleShooters \n21:00 Uhr: Blue Moonlight \nBühne vor dem Rathaus: \n14:00 Uhr: Tanzaufführungen der vhs \n16:00 Uhr: Kerry Balder \n17:30 Uhr: Munich Square Devils \n💡 Tipp: Am Sonntag geht’s weiter – dann von 12:00 bis 19:00 Uhr!
URL:https://www.kimapa.de/veranstaltungen/kuenstlermeile-haar-b-muenchen/2025-07-06/
LOCATION:Haar\, Kirchenplatz\, Haar\, 85540\, Deutschland
CATEGORIES:Tipp der Redaktion,Top Event
ATTACH;FMTTYPE=image/jpeg:https://www.kimapa.de/wp-content/uploads/2016/06/Kuenstlermeile-haar-events.jpg
GEO:48.1095681;11.7258985
X-APPLE-STRUCTURED-LOCATION;VALUE=URI;X-ADDRESS=Haar Kirchenplatz Haar 85540 Deutschland;X-APPLE-RADIUS=500;X-TITLE=Kirchenplatz:geo:11.7258985,48.1095681
END:VEVENT
BEGIN:VEVENT
DTSTART;TZID=Europe/Berlin:20250705T140000
DTEND;TZID=Europe/Berlin:20250705T223000
DTSTAMP:20260421T102037
CREATED:20250630T073623Z
LAST-MODIFIED:20250630T074146Z
UID:10020393-1751724000-1751754600@www.kimapa.de
SUMMARY:Künstlermeile @ Haar b. München
DESCRIPTION:🎨 SOMMA in der Stadt: Künstlermeile\n🗓️ Samstag\, 5. Juli 2025\,  14:00 – 22:30 Uhr\n& Sonntag\, 6. Juli\, 12 bis 19 Uhr\n📍 Ortsmitte \nDie beliebte Künstlermeile verwandelt die Ortsmitte wieder in ein buntes Straßenfest – und das dieses Jahr sogar an zwei Tagen! \nAm Samstag von 14:00 bis 22:30 Uhr laden zahlreiche Stände zum Flanieren\, Stöbern und Genießen ein. Auf zwei Bühnen gibt es ein abwechslungsreiches Programm mit Livemusik\, Tanz und Showeinlagen. \n🎭 Straßenkünstler\, Stelzenläufer\, eine Kameldame\, ein Glaskugel-Jongleur und viele weitere Highlights sorgen den ganzen Tag über für Staunen und Unterhaltung. \n🎶 Bühnenprogramm am Samstag: \nBühne am Kirchenplatz: \n14:00 Uhr: Evil May Car \n15:30 Uhr: Bajuvarix \n18:00 Uhr: The Ukelites \n19:30 Uhr: TroubleShooters \n21:00 Uhr: Blue Moonlight \nBühne vor dem Rathaus: \n14:00 Uhr: Tanzaufführungen der vhs \n16:00 Uhr: Kerry Balder \n17:30 Uhr: Munich Square Devils \n💡 Tipp: Am Sonntag geht’s weiter – dann von 12:00 bis 19:00 Uhr!
URL:https://www.kimapa.de/veranstaltungen/kuenstlermeile-haar-b-muenchen/2025-07-05/
LOCATION:Haar\, Kirchenplatz\, Haar\, 85540\, Deutschland
CATEGORIES:Tipp der Redaktion,Top Event
ATTACH;FMTTYPE=image/jpeg:https://www.kimapa.de/wp-content/uploads/2016/06/Kuenstlermeile-haar-events.jpg
GEO:48.1095681;11.7258985
X-APPLE-STRUCTURED-LOCATION;VALUE=URI;X-ADDRESS=Haar Kirchenplatz Haar 85540 Deutschland;X-APPLE-RADIUS=500;X-TITLE=Kirchenplatz:geo:11.7258985,48.1095681
END:VEVENT
END:VCALENDAR