BEGIN:VCALENDAR
VERSION:2.0
PRODID:-//KiMaPa - ECPv6.15.16//NONSGML v1.0//EN
CALSCALE:GREGORIAN
METHOD:PUBLISH
X-ORIGINAL-URL:https://www.kimapa.de
X-WR-CALDESC:Veranstaltungen für KiMaPa
REFRESH-INTERVAL;VALUE=DURATION:PT1H
X-Robots-Tag:noindex
X-PUBLISHED-TTL:PT1H
BEGIN:VTIMEZONE
TZID:Europe/Berlin
BEGIN:DAYLIGHT
TZOFFSETFROM:+0100
TZOFFSETTO:+0200
TZNAME:CEST
DTSTART:20240331T010000
END:DAYLIGHT
BEGIN:STANDARD
TZOFFSETFROM:+0200
TZOFFSETTO:+0100
TZNAME:CET
DTSTART:20241027T010000
END:STANDARD
BEGIN:DAYLIGHT
TZOFFSETFROM:+0100
TZOFFSETTO:+0200
TZNAME:CEST
DTSTART:20250330T010000
END:DAYLIGHT
BEGIN:STANDARD
TZOFFSETFROM:+0200
TZOFFSETTO:+0100
TZNAME:CET
DTSTART:20251026T010000
END:STANDARD
BEGIN:DAYLIGHT
TZOFFSETFROM:+0100
TZOFFSETTO:+0200
TZNAME:CEST
DTSTART:20260329T010000
END:DAYLIGHT
BEGIN:STANDARD
TZOFFSETFROM:+0200
TZOFFSETTO:+0100
TZNAME:CET
DTSTART:20261025T010000
END:STANDARD
END:VTIMEZONE
BEGIN:VEVENT
DTSTART;TZID=Europe/Berlin:20250629T100000
DTEND;TZID=Europe/Berlin:20250629T190000
DTSTAMP:20260420T203328
CREATED:20250522T111029Z
LAST-MODIFIED:20250527T080630Z
UID:10020326-1751191200-1751223600@www.kimapa.de
SUMMARY:Kinderfest im Wannda Circus in Freimann
DESCRIPTION:Kinderfest im Wannda Circus\n📅 Sonntag\, 29. Juni 2025 | ⏰ 10:00 Uhr \nRaus aus dem Stadttrubel – rein ins Abenteuer! Der Wannda Circus lädt mitten im Grünen zu einem kunterbunten Kinderfest ein. Freut euch auf ein fantasievolles Bühnenprogramm mit Artist:innen\, Kindertheater\, Live-Musik\, Zauberei und Tanzshows. An Bastelstationen und im Mitmachzirkus könnt ihr selbst kreativ werden. Leckeres Essen rundet den Tag ab. \n🎪 Eintritt frei für Kinder unter 4 Jahren (kein Ticket nötig). \n  \nMehr
URL:https://www.kimapa.de/veranstaltungen/kinderfest-im-wannda-circus-in-freimann/
LOCATION:Wannda Circus Freimann\, Völckerstraße 5\, München\, 80939
CATEGORIES:Feste & Märkte,Tipp der Redaktion,Top Event
ATTACH;FMTTYPE=image/jpeg:https://www.kimapa.de/wp-content/uploads/2025/05/Wandafest-kinderfest-event.jpeg
END:VEVENT
BEGIN:VEVENT
DTSTART;TZID=Europe/Berlin:20250615T130000
DTEND;TZID=Europe/Berlin:20250615T180000
DTSTAMP:20260420T203328
CREATED:20250522T111244Z
LAST-MODIFIED:20250522T111244Z
UID:10020327-1749992400-1750010400@www.kimapa.de
SUMMARY:Wannda’s Flohmarkt im Grünen
DESCRIPTION:Wannda’s Flohmarkt im Grünen\n📅 Sonntag\, 15. Juni 2025 | ⏰ 13:00 Uhr \nTrödeln\, stöbern\, staunen – beim bunten Flohmarkt im Wannda Circus warten Mode\, Kunst\, Requisiten und viele besondere Schätze auf euch. Das Gelände rund um die Zirkuszelte lädt zum Entdecken und Verweilen ein. Dazu gibt’s kühle Drinks und entspannte Sommerstimmung mitten im Grünen. \nMehr
URL:https://www.kimapa.de/veranstaltungen/wanndas-flohmarkt-im-gruenen/
LOCATION:Wannda Circus Freimann\, Völckerstraße 5\, München\, 80939
CATEGORIES:Flohmärkte & Basare
ATTACH;FMTTYPE=image/jpeg:https://www.kimapa.de/wp-content/uploads/2025/03/kleider-flohmarkt.jpg
END:VEVENT
END:VCALENDAR